BEGIN:VCALENDAR
VERSION:2.0
PRODID:-//AudioTheme 3.0.2
BEGIN:VEVENT
UID:urn:uuid:ef68af13-5e47-4428-8fb6-ef54dd3e6fc9
URL:https://willbernard.com/shows/stanton-moore-trio-5/
DTSTART;VALUE=DATE:20200131
SUMMARY:Stanton Moore Trio
DESCRIPTION:Stanton Moore Trio
LOCATION:Under the Bridge\, undefined Fulham Road\, \, England\, United Kingdom\, SW6 1HS
END:VEVENT
END:VCALENDAR
