BEGIN:VCALENDAR
VERSION:2.0
PRODID:-//AudioTheme 3.0.2
BEGIN:VEVENT
UID:urn:uuid:dfb9df6f-9b3e-4c8d-9f38-5e45d4f9e0af
URL:https://willbernard.com/shows/stanton-moore-and-friends-2/
DTSTART;TZID=GMT:20250502T030000
SUMMARY:Stanton Moore and Friends
DESCRIPTION:Stanton Moore and Friends
LOCATION:Toulouse Theatre\, 615 Toulouse Street\, New Orleans\, LA\, United States\, 70130
END:VEVENT
END:VCALENDAR
