BEGIN:VCALENDAR
VERSION:2.0
PRODID:-//AudioTheme 3.0.2
BEGIN:VEVENT
UID:urn:uuid:bd35c0be-decd-46fe-9da7-9e8eadcb25a8
URL:https://willbernard.com/shows/sonic-logic-galactic-after-party/
DTSTART;TZID=GMT:20170218T000000
SUMMARY:Sonic Logic: Galactic after party
DESCRIPTION:Will Bernard\, Wil Blades\,DJ Logic\, Robert Mercurio\,Jeff Raines\,Jermal Watson\, Jazz mafia horns
LOCATION:Boom Boom Room\, 1601 Fillmore St\, San Francisco\, CA\, USA	
END:VEVENT
END:VCALENDAR
