BEGIN:VCALENDAR
VERSION:2.0
PRODID:-//AudioTheme 3.0.2
BEGIN:VEVENT
UID:http://scotland.fastatmosphere.com/~willb/?post_type=audiotheme_gig&#038;p=92
URL:https://willbernard.com/shows/rockwood-music-hall/
DTSTART;TZID=GMT:20160531T020000
SUMMARY:Rockwood Music Hall
DESCRIPTION:WILL BERNARD\, ERIC KALB\, ADAM MINKOFF
LOCATION:Rockwood Music Hall\, 196 Allen Street\, New York\, NY\, USA\, 10002
END:VEVENT
END:VCALENDAR
