BEGIN:VCALENDAR
VERSION:2.0
PRODID:-//AudioTheme 3.0.2
BEGIN:VEVENT
UID:urn:uuid:e986e6e5-eebe-4b1d-b66c-61364f650d53
URL:https://willbernard.com/shows/revelator-with-bill-laswell-will-bernard-peter-apfelbaum-and-aaron-johnston/
DTSTART;TZID=GMT:20200112T013000
SUMMARY:Revelator with Bill Laswell, Will Bernard, Peter Apfelbaum and Aaron Johnston
LOCATION:Sound Of Brazil\, 204 Varick Street\, New York\, NY\, United States\, 10014
END:VEVENT
END:VCALENDAR
