BEGIN:VCALENDAR
VERSION:2.0
PRODID:-//AudioTheme 3.0.2
BEGIN:VEVENT
UID:urn:uuid:d81da7d4-ba4c-4e70-8423-ba0684bfa39e
URL:https://willbernard.com/shows/plastic-bouquet-with-papa-mali/
DTSTART;TZID=GMT:20200427T043000
SUMMARY:Plastic Bouquet (With Papa Mali)
DESCRIPTION:Plastic Bouquet (With Papa Mali)
LOCATION:d.b.a.\, 618 Frenchmen Street\, New Orleans\, LA\, United States\, 70116
END:VEVENT
END:VCALENDAR
