BEGIN:VCALENDAR
VERSION:2.0
PRODID:-//AudioTheme 3.0.2
BEGIN:VEVENT
UID:urn:uuid:0387a253-28a5-47fd-a8c1-40bb7d9a5a34
URL:https://willbernard.com/shows/plastic-bouquet-2/
DTSTART;TZID=GMT:20200430T030000
SUMMARY:Plastic Bouquet
LOCATION:Hi-Ho Lounge\, 2239 Saint Claude Ave\, New Orleans\, LA\, United States\, 70117
END:VEVENT
END:VCALENDAR
