BEGIN:VCALENDAR
VERSION:2.0
PRODID:-//AudioTheme 3.0.2
BEGIN:VEVENT
UID:http://scotland.fastatmosphere.com/~willb/?post_type=audiotheme_gig&#038;p=56
URL:https://willbernard.com/shows/parish-public-house/
DTSTART;TZID=GMT:20160603T000000
SUMMARY:Parish Public House
DESCRIPTION:WILL BERNARD TRIO
LOCATION:Parish Public House\, 388 Broadway\, Albany\, NY\, 12207
END:VEVENT
END:VCALENDAR
