BEGIN:VCALENDAR
VERSION:2.0
PRODID:-//AudioTheme 3.0.2
BEGIN:VEVENT
UID:urn:uuid:2aa081e0-56a0-4e95-80c1-3c065c7a9b82
URL:https://willbernard.com/shows/moses-patrou-brooklyn-dive-bombers/
DTSTART;TZID=GMT:20220517T010000
SUMMARY:Moses Patrou Brooklyn Dive Bombers
DESCRIPTION:Moses Patrou Brooklyn Dive Bombers
LOCATION:wild birds\, 951 Dean Street\, \, NY\, United States\, 11238
END:VEVENT
END:VCALENDAR
