BEGIN:VCALENDAR
VERSION:2.0
PRODID:-//AudioTheme 3.0.2
BEGIN:VEVENT
UID:urn:uuid:e95ae2a3-d991-47c9-8926-587d500f3edf
URL:https://willbernard.com/shows/moses-patrou-and-the-brooklyn-dive-bombers/
DTSTART;TZID=GMT:20210829T013000
SUMMARY:Moses Patrou and the Brooklyn Dive Bombers
DESCRIPTION:Moses Patrou and the Brooklyn Dive Bombers
LOCATION:55 Bar\, 55 Christopher St.\, New York\, NY\, USA\, 10014
END:VEVENT
END:VCALENDAR
