BEGIN:VCALENDAR
VERSION:2.0
PRODID:-//AudioTheme 3.0.2
BEGIN:VEVENT
UID:urn:uuid:746936b4-f354-4d10-bbc1-2a75a6f7809e
URL:https://willbernard.com/shows/moodys-jazz-camp/
DTSTART;VALUE=DATE:20190708
SUMMARY:Moody's Jazz Camp
DESCRIPTION:Will Will be teaching at Moody's Jazz Camp again this year with Peter Apfelbaum\, Josh Jones\, Kenny Brooks\, Adam Theis\, and more
LOCATION:Moody's Bistro Bar & Beats\, 10007 Bridge Street\, Truckee\, CA\, United States\, 96161
END:VEVENT
END:VCALENDAR
