BEGIN:VCALENDAR
VERSION:2.0
PRODID:-//AudioTheme 3.0.2
BEGIN:VEVENT
UID:urn:uuid:77c5a4d5-2090-4e3b-a10e-d7aa83a87776
URL:https://willbernard.com/shows/moment-collective-members-of-groove-collective/
DTSTART;TZID=GMT:20251221T220000
SUMMARY:Moment Collective (Members of Groove Collective)
DESCRIPTION:Moment Collective (Members of Groove Collective)
LOCATION:Baker Falls\, 192 Allen Street\, New York\, NY\, United States\, 10002
END:VEVENT
END:VCALENDAR
