BEGIN:VCALENDAR
VERSION:2.0
PRODID:-//AudioTheme 3.0.2
BEGIN:VEVENT
UID:urn:uuid:fce57bca-940a-4128-8afb-eadbaabcf832
URL:https://willbernard.com/shows/mike-neers-steelonius-with-mike-neer-pedal-steel-will-bernard-diego-voglino-and-tony-scheer/
DTSTART;TZID=GMT:20190728T230000
SUMMARY:Mike Neer's Steelonius with Mike Neer pedal steel, Will Bernard, Diego Voglino and Tony Scheer
DESCRIPTION:Mike Neer's Steelonius with Mike Neer pedal steel\, Will Bernard\, Diego Voglino and Tony Scheer
LOCATION:Barbès\, 376 9th Street\, \, NY\, United States\, 11215
END:VEVENT
END:VCALENDAR
