BEGIN:VCALENDAR
VERSION:2.0
PRODID:-//AudioTheme 3.0.2
BEGIN:VEVENT
UID:urn:uuid:7b79455c-d6ec-417e-80f3-5eb1a4d6c4e1
URL:https://willbernard.com/shows/mike-neer-steelonious/
DTSTART;TZID=GMT:20200120T000000
SUMMARY:Mike Neer Steelonious
LOCATION:Barbès\, 376 9th Street\, \, NY\, United States\, 11215
END:VEVENT
END:VCALENDAR
