BEGIN:VCALENDAR
VERSION:2.0
PRODID:-//AudioTheme 3.0.2
BEGIN:VEVENT
UID:urn:uuid:80d8b133-7401-4c5a-94c1-228d3b536dd2
URL:https://willbernard.com/shows/mike-neer-steelonious-barbes/
DTSTART;TZID=GMT:20191118T000000
SUMMARY:Mike Neer Steelonious @ Barbes
DESCRIPTION:Mike Neer Steelonious @ Barbes
LOCATION:Barbès\, 376 9th Street\, \, NY\, United States\, 11215
END:VEVENT
END:VCALENDAR
