BEGIN:VCALENDAR
VERSION:2.0
PRODID:-//AudioTheme 3.0.2
BEGIN:VEVENT
UID:urn:uuid:1373f2fa-e4ea-480f-a5cd-8a970b0efc46
URL:https://willbernard.com/shows/mike-neer-band/
DTSTART;TZID=GMT:20210822T230000
SUMMARY:MIke Neer band
DESCRIPTION:MIke Neer band
LOCATION:Barbès\, 376 9th Street\, \, NY\, United States\, 11215
END:VEVENT
END:VCALENDAR
