BEGIN:VCALENDAR
VERSION:2.0
PRODID:-//AudioTheme 3.0.2
BEGIN:VEVENT
UID:urn:uuid:19970143-cf6f-4cfa-8c86-1a8173c2165f
URL:https://willbernard.com/shows/michael-blake-4tet-with-kenny-wollesen-and-tony-scher/
DTSTART;TZID=GMT:20250613T220000
SUMMARY:Michael Blake 4tet with Kenny Wollesen and Tony Scher
DESCRIPTION:Michael Blake 4tet with Kenny Wollesen and Tony Scher
LOCATION:1803 NYC\, 82 Reade Street\, New York\, NY\, United States\, 10007
END:VEVENT
END:VCALENDAR
