BEGIN:VCALENDAR
VERSION:2.0
PRODID:-//AudioTheme 3.0.2
BEGIN:VEVENT
UID:urn:uuid:8f8652f2-e853-49b3-a4ff-fe3ce6201734
URL:https://willbernard.com/shows/mctuff-with-skerik-and-will-bernard/
DTSTART;TZID=GMT:20181019T040000
SUMMARY:Mctuff with Skerik and Will Bernard
LOCATION:Jack London Bar\, 529 S.W. 4th Avenue Portland\, Oregon 97204\, Portland\, OR\, United States
END:VEVENT
END:VCALENDAR
