BEGIN:VCALENDAR
VERSION:2.0
PRODID:-//AudioTheme 3.0.2
BEGIN:VEVENT
UID:urn:uuid:ca1e3fbc-1f3e-461c-b117-634873768843
URL:https://willbernard.com/shows/mctuff-with-skerik-and-will-bernard-2/
DTSTART;TZID=GMT:20181026T000000
SUMMARY:Mctuff with Skerik and Will Bernard
LOCATION:Cafe Stritch\, 374 S 1st St\,  San Jose\,  CA \, 95113
END:VEVENT
END:VCALENDAR
