BEGIN:VCALENDAR
VERSION:2.0
PRODID:-//AudioTheme 3.0.2
BEGIN:VEVENT
UID:urn:uuid:911f9c95-b426-4c3d-bbec-6ce01848e023
URL:https://willbernard.com/shows/mctuff-with-joe-doriawill-bernard-and-skerik/
DTSTART;TZID=GMT:20181018T040000
SUMMARY:Mctuff with Joe Doria,Will Bernard and Skerik
LOCATION:Royal Room\, 5000 Rainier Avenue South\, Seattle\, WA\, United States\, 98118
END:VEVENT
END:VCALENDAR
