BEGIN:VCALENDAR
VERSION:2.0
PRODID:-//AudioTheme 3.0.2
BEGIN:VEVENT
UID:urn:uuid:f6bbc596-f349-43f0-8353-670f981c2cd8
URL:https://willbernard.com/shows/mctuff-with-joe-doria-will-bernard-and-skerik/
DTSTART;TZID=GMT:20181020T040000
SUMMARY:Mctuff with Joe Doria, Will Bernard and Skerik
LOCATION:Whirled Pies Downtown\, 199 West 8th Avenue\, Eugene\, OR\, United States\, 97401
END:VEVENT
END:VCALENDAR
