BEGIN:VCALENDAR
VERSION:2.0
PRODID:-//AudioTheme 3.0.2
BEGIN:VEVENT
UID:urn:uuid:7a5b3c65-e1a2-4e29-8341-2f254dfcb6cf
URL:https://willbernard.com/shows/mctuff-with-joe-doria-will-bernard-and-skerik-3/
DTSTART;TZID=GMT:20181025T040000
SUMMARY:Mctuff with Joe Doria, Will Bernard and Skerik
LOCATION:Applegate River Lodge\, 15100 Oregon 238\, Applegate\, OR\, United States\, 97530
END:VEVENT
END:VCALENDAR
