BEGIN:VCALENDAR
VERSION:2.0
PRODID:-//AudioTheme 3.0.2
BEGIN:VEVENT
UID:urn:uuid:da0406f7-2439-472c-ab29-1453f3c532d2
URL:https://willbernard.com/shows/mctuff-with-joe-doria-will-bernard-and-skerik-2/
DTSTART;TZID=GMT:20181027T000000
SUMMARY:Mctuff with Joe Doria, Will Bernard and Skerik
LOCATION:Boom Boom Room\, 1601 Fillmore St\, San Francisco\, CA\, USA	
END:VEVENT
END:VCALENDAR
