BEGIN:VCALENDAR
VERSION:2.0
PRODID:-//AudioTheme 3.0.2
BEGIN:VEVENT
UID:urn:uuid:10de022f-19b1-4b67-a952-945b34fce64e
URL:https://willbernard.com/shows/matt-jensons-mix-up-mix-up/
DTSTART;TZID=GMT:20190706T030000
SUMMARY:Matt Jenson's Mix Up Mix Up
DESCRIPTION:Matt Jenson's Mix Up Mix Up  Reggae Jazz
LOCATION:Piedmont Piano\, 1728 San Pablo Ave\, Piedmont\, CA\, USA\, 94612
END:VEVENT
END:VCALENDAR
