BEGIN:VCALENDAR
VERSION:2.0
PRODID:-//AudioTheme 3.0.2
BEGIN:VEVENT
UID:urn:uuid:58ab13f0-37ff-41eb-889a-190e20c6c4f8
URL:https://willbernard.com/shows/matt-jensons-mix-up-mix-up-2/
DTSTART;TZID=GMT:20190707T030000
SUMMARY:Matt Jenson's Mix Up Mix Up
DESCRIPTION:Matt Jenson's Mix Up Mix Up  Reggae Jazz
LOCATION:Pier 23 Cafe Restaurant & Bar\, Pier 23 The Embarcadero\, San Francisco\, CA\, United States\, 94111
END:VEVENT
END:VCALENDAR
