BEGIN:VCALENDAR
VERSION:2.0
PRODID:-//AudioTheme 3.0.2
BEGIN:VEVENT
UID:urn:uuid:2593c380-cafd-47b4-8088-72a7fc7a1a3e
URL:https://willbernard.com/shows/mad-skillet-wormtown-festival/
DTSTART;VALUE=DATE:20190914
SUMMARY:Mad Skillet Wormtown Festival
DESCRIPTION:Mad Skillet is John Medeski\, Will Bernard\, Kirk Joseph and Terence Higgins
LOCATION:Camp Kee-wanee\, undefined undefined\, Greenfield\, MA\, United States\, 01301
END:VEVENT
END:VCALENDAR
