BEGIN:VCALENDAR
VERSION:2.0
PRODID:-//AudioTheme 3.0.2
BEGIN:VEVENT
UID:urn:uuid:8ce8d375-baaa-45dc-ae7e-eb49f5670152
URL:https://willbernard.com/shows/mad-skillet-latenight/
DTSTART;TZID=GMT:20230506T043000
SUMMARY:Mad Skillet (latenight)
DESCRIPTION:Mad Skillet (latenight)
LOCATION:d.b.a.\, 618 Frenchmen Street\, New Orleans\, LA\, United States\, 70116
END:VEVENT
END:VCALENDAR
