BEGIN:VCALENDAR
VERSION:2.0
PRODID:-//AudioTheme 3.0.2
BEGIN:VEVENT
UID:urn:uuid:6534a7b1-7159-4736-ba8b-53dcda58abdf
URL:https://willbernard.com/shows/mad-skillet-4/
DTSTART;TZID=GMT:20200503T043000
SUMMARY:Mad Skillet
DESCRIPTION:Mad Skillet  CANCELED DUE TO PANDEMIC
LOCATION:Maple Leaf Bar\, 8316 Oak Street\, New Orleans\, LA\, United States\, 70118
END:VEVENT
END:VCALENDAR
