BEGIN:VCALENDAR
VERSION:2.0
PRODID:-//AudioTheme 3.0.2
BEGIN:VEVENT
UID:urn:uuid:d43d87d2-0076-4bc4-817c-d867e4975d1d
URL:https://willbernard.com/shows/mad-skillet-3/
DTSTART;TZID=GMT:20190421T000000
SUMMARY:Mad Skillet
DESCRIPTION:John Medeski's Mad Skillet with John Medeski  Kirk Joseph Terence Higgins and Will Bernard 
LOCATION:Pisgah Brewing Company\, 150 Eastside Drive\, Black Mountain\, NC\, United States\, 28711
END:VEVENT
END:VCALENDAR
