BEGIN:VCALENDAR
VERSION:2.0
PRODID:-//AudioTheme 3.0.2
BEGIN:VEVENT
UID:urn:uuid:5d215884-4af6-438f-bd63-fa115b4194dd
URL:https://willbernard.com/shows/kresten-osgood-trio/
DTSTART;TZID=GMT:20250705T180000
SUMMARY:Kresten Osgood trio
DESCRIPTION:Kresten Osgood trio
LOCATION:Enghave Plads\, undefined undefined\, Copenhagen\, \, Denmark\, 1670
END:VEVENT
END:VCALENDAR
