BEGIN:VCALENDAR
VERSION:2.0
PRODID:-//AudioTheme 3.0.2
BEGIN:VEVENT
UID:urn:uuid:8caf80af-dade-450d-9e8e-af1c39399e87
URL:https://willbernard.com/shows/kresten-osgood-trio-7/
DTSTART;TZID=GMT:20250509T210000
SUMMARY:Kresten Osgood Trio
DESCRIPTION:Kresten Osgood Trio
LOCATION:H15 MAD & KULTUR i KØDBYEN\, 1 Slagtehusgade\, København\, \, Denmark\, 1700
END:VEVENT
END:VCALENDAR
