BEGIN:VCALENDAR
VERSION:2.0
PRODID:-//AudioTheme 3.0.2
BEGIN:VEVENT
UID:urn:uuid:38c4f27a-b2a8-41ba-9bc0-a13d55f9f5a5
URL:https://willbernard.com/shows/kresten-osgood-trio-5/
DTSTART;TZID=GMT:20250708T120000
SUMMARY:Kresten Osgood Trio
DESCRIPTION:Kresten Osgood Trio
LOCATION:Plejecenter Fælledgården\, 3 Drejøgade\, København\, \, Denmark\, 2100
END:VEVENT
END:VCALENDAR
