BEGIN:VCALENDAR
VERSION:2.0
PRODID:-//AudioTheme 3.0.2
BEGIN:VEVENT
UID:urn:uuid:0100ce0c-96c6-4451-b40a-b3919ee8f41a
URL:https://willbernard.com/shows/kresten-osgood-trio-3/
DTSTART;TZID=GMT:20250816T000000
SUMMARY:Donald Harrison Jr. band
DESCRIPTION:Donald Harrison Jr. band
LOCATION:Borghese Vineyard\, 17150 Middle Road\, Cutchogue\, NY\, United States\, 11935
END:VEVENT
END:VCALENDAR
