BEGIN:VCALENDAR
VERSION:2.0
PRODID:-//AudioTheme 3.0.2
BEGIN:VEVENT
UID:urn:uuid:47fac5c6-875b-4468-a24e-e6093e3f79a6
URL:https://willbernard.com/shows/johnny-vidacovitch-trio/
DTSTART;TZID=GMT:20240119T040000
SUMMARY:Johnny Vidacovitch trio
DESCRIPTION:Johnny Vidacovitch trio
LOCATION:Maple Leaf Bar\, 8316 Oak Street\, New Orleans\, LA\, United States\, 70118
END:VEVENT
END:VCALENDAR
