BEGIN:VCALENDAR
VERSION:2.0
PRODID:-//AudioTheme 3.0.2
BEGIN:VEVENT
UID:urn:uuid:86db9acc-9e1f-4e7d-98a1-3a15f1b1b85f
URL:https://willbernard.com/shows/johnny-vidacovich-james-singleton-will-bernard/
DTSTART;TZID=GMT:20260529T010000
SUMMARY:Johnny Vidacovich, James Singleton, Will Bernard
DESCRIPTION:Johnny Vidacovich\, James Singleton\, Will Bernard
LOCATION:Maple Leaf Bar\, 8316 Oak Street\, New Orleans\, LA\, United States\, 70118
END:VEVENT
END:VCALENDAR
