BEGIN:VCALENDAR
VERSION:2.0
PRODID:-//AudioTheme 3.0.2
BEGIN:VEVENT
UID:urn:uuid:5ce7b41c-8304-4f42-9a6b-7330105aef05
URL:https://willbernard.com/shows/john-singletons-malabar/
DTSTART;VALUE=DATE:20250505
SUMMARY:John Singleton's Malabar
DESCRIPTION:John Singleton's Malabar
LOCATION:Cafe Istanbul\, 2372 Saint Claude Avenue\, New Orleans\, LA\, United States\, 70117
END:VEVENT
END:VCALENDAR
