BEGIN:VCALENDAR
VERSION:2.0
PRODID:-//AudioTheme 3.0.2
BEGIN:VEVENT
UID:urn:uuid:044adaf9-0bb0-4ec0-9cc0-b7416fe4931b
URL:https://willbernard.com/shows/john-medeskis-mad-skillet-9/
DTSTART;TZID=GMT:20181107T020000
SUMMARY:John Medeski's Mad Skillet
LOCATION:Ignition Music Garage\, 120 East Washington Street\, Goshen\, IN\, United States\, 46528
END:VEVENT
END:VCALENDAR
