BEGIN:VCALENDAR
VERSION:2.0
PRODID:-//AudioTheme 3.0.2
BEGIN:VEVENT
UID:urn:uuid:b4b71984-c7ef-4dc2-8df0-518b10c41cfd
URL:https://willbernard.com/shows/john-medeskis-mad-skillet-8/
DTSTART;TZID=GMT:20181104T010000
SUMMARY:John Medeski's Mad Skillet
DESCRIPTION:Mad Skillet with John Medeski\, Will Bernard\, Terence Higgins\, and Kirk Joseph
LOCATION:UTOPiAfest\, 1555 Lemond Rd\, Utopia\, TX\, United States\, 78884
END:VEVENT
END:VCALENDAR
