BEGIN:VCALENDAR
VERSION:2.0
PRODID:-//AudioTheme 3.0.2
BEGIN:VEVENT
UID:urn:uuid:c821bec0-7103-474c-bc0e-d5e76ff16c0d
URL:https://willbernard.com/shows/john-medeskis-mad-skillet-51/
DTSTART;TZID=GMT:20251115T200000
SUMMARY:John Medeski's Mad Skillet
DESCRIPTION:John Medeski's Mad Skillet
LOCATION:Madrid Jazz Festival\, Madrid\, MD\, Spain
END:VEVENT
END:VCALENDAR
