BEGIN:VCALENDAR
VERSION:2.0
PRODID:-//AudioTheme 3.0.2
BEGIN:VEVENT
UID:urn:uuid:65b43ad4-657a-4c81-a5eb-36efc9775825
URL:https://willbernard.com/shows/john-medeskis-mad-skillet-50/
DTSTART;VALUE=DATE:20251114
SUMMARY:John Medeski's Mad Skillet
DESCRIPTION:John Medeski's Mad Skillet
LOCATION:Zaragoza jazz fest\, C/Eduardo Ibarra\, 3 – 50009 Zaragoza\, Zaragoza\, AR\, Spain
END:VEVENT
END:VCALENDAR
