BEGIN:VCALENDAR
VERSION:2.0
PRODID:-//AudioTheme 3.0.2
BEGIN:VEVENT
UID:urn:uuid:8d328688-6209-4230-a5bc-a66d4e3da7b2
URL:https://willbernard.com/shows/john-medeskis-mad-skillet-47/
DTSTART;TZID=GMT:20191004T230000
SUMMARY:John Medeski's Mad Skillet
DESCRIPTION:John Medeski's Mad Skillet
LOCATION:Charleston Woodlands\, 4279 Ashley River Road\, Charleston\, SC\, United States\, 29414
END:VEVENT
END:VCALENDAR
