BEGIN:VCALENDAR
VERSION:2.0
PRODID:-//AudioTheme 3.0.2
BEGIN:VEVENT
UID:urn:uuid:65456818-3e15-491c-90a8-075622ab715d
URL:https://willbernard.com/shows/john-medeskis-mad-skillet-46/
DTSTART;TZID=GMT:20191004T000000
SUMMARY:John Medeski's Mad Skillet
DESCRIPTION:John Medeski's Mad Skillet
LOCATION:Neighborhood Theatre\, 511 East 36th Street\, Charlotte\, NC\, United States\, 28205
END:VEVENT
END:VCALENDAR
