BEGIN:VCALENDAR
VERSION:2.0
PRODID:-//AudioTheme 3.0.2
BEGIN:VEVENT
UID:urn:uuid:efa1762a-2794-4fd9-a1ac-fcca920879a5
URL:https://willbernard.com/shows/john-medeskis-mad-skillet-45/
DTSTART;TZID=GMT:20190917T230000
SUMMARY:John Medeski's mad Skillet
DESCRIPTION:John Medeski's mad Skillet
LOCATION:Palais Montcalm – Maison de la musique\, 995 Place d'Youville\, Québec\, QC\, Canada\, G1R 3P1
END:VEVENT
END:VCALENDAR
