BEGIN:VCALENDAR
VERSION:2.0
PRODID:-//AudioTheme 3.0.2
BEGIN:VEVENT
UID:urn:uuid:a7aec77e-98be-4963-95ba-6947b4965ee7
URL:https://willbernard.com/shows/john-medeskis-mad-skillet-44/
DTSTART;TZID=GMT:20191006T000000
SUMMARY:John Medeski's Mad Skillet
DESCRIPTION:John Medeski's Mad Skillet
LOCATION:Music Hall\, 1050 Ponte Vedra Boulevard\, Ponte Vedra Beach\, FL\, United States\, 32082
END:VEVENT
END:VCALENDAR
