BEGIN:VCALENDAR
VERSION:2.0
PRODID:-//AudioTheme 3.0.2
BEGIN:VEVENT
UID:urn:uuid:b93dbeec-c702-4ca7-ab51-7eb0756e97ce
URL:https://willbernard.com/shows/john-medeskis-mad-skillet-43/
DTSTART;TZID=GMT:20191003T000000
SUMMARY:John Medeski's Mad Skillet
DESCRIPTION:John Medeski's Mad Skillet
LOCATION:Terminal West\, Atlanta\, GA\, United States
END:VEVENT
END:VCALENDAR
