BEGIN:VCALENDAR
VERSION:2.0
PRODID:-//AudioTheme 3.0.2
BEGIN:VEVENT
UID:urn:uuid:1eebf182-255f-4880-a81a-e41f082b1ff9
URL:https://willbernard.com/shows/john-medeskis-mad-skillet-42/
DTSTART;TZID=GMT:20191002T030000
SUMMARY:John Medeski's Mad Skillet
DESCRIPTION:John Medeski's Mad Skillet
LOCATION:The Republic\, 828 S. Peters street\, New Orleans\, LA\, United States
END:VEVENT
END:VCALENDAR
