BEGIN:VCALENDAR
VERSION:2.0
PRODID:-//AudioTheme 3.0.2
BEGIN:VEVENT
UID:urn:uuid:6bc6b658-42ff-47c0-97f8-dff19bd62989
URL:https://willbernard.com/shows/john-medeskis-mad-skillet-39/
DTSTART;TZID=GMT:20190913T010000
SUMMARY:John Medeski's Mad Skillet
DESCRIPTION:John Medeski's Mad Skillet
LOCATION:Three Heads Brewing\, 186 Atlantic Avenue\, Rochester\, NY\, United States\, 14607
END:VEVENT
END:VCALENDAR
