BEGIN:VCALENDAR
VERSION:2.0
PRODID:-//AudioTheme 3.0.2
BEGIN:VEVENT
UID:urn:uuid:ac23f309-6df4-4869-83a5-1bcc811ae031
URL:https://willbernard.com/shows/john-medeskis-mad-skillet-38/
DTSTART;TZID=GMT:20190912T010000
SUMMARY:John Medeski's Mad Skillet
DESCRIPTION:John Medeski's Mad Skillet
LOCATION:Roxian Theatre\, Pittsburgh\, PA\, United States
END:VEVENT
END:VCALENDAR
