BEGIN:VCALENDAR
VERSION:2.0
PRODID:-//AudioTheme 3.0.2
BEGIN:VEVENT
UID:urn:uuid:8c5d6999-af2a-4429-b74d-98c7f474d0a4
URL:https://willbernard.com/shows/john-medeskis-mad-skillet-37/
DTSTART;TZID=GMT:20190224T040000
SUMMARY:The Lodge Room
DESCRIPTION:John Medeski's Mad Skillet
LOCATION:The Lodge Room\, Los Angeles\, CA\, United States
END:VEVENT
END:VCALENDAR
