BEGIN:VCALENDAR
VERSION:2.0
PRODID:-//AudioTheme 3.0.2
BEGIN:VEVENT
UID:urn:uuid:cdcc52b0-a72f-4ed5-a5b6-48071bd9d2b8
URL:https://willbernard.com/shows/john-medeskis-mad-skillet-36/
DTSTART;TZID=GMT:20190222T040000
SUMMARY:John Medeski's Mad Skillet
DESCRIPTION:Mad Skillet with John Medeski\, Will Bernard\, Terence Higgins and Kirk Joseph
LOCATION:Harlow's Restaurant & Nightclub\, 2708 J Street\, Sacramento\, CA\, United States\, 95816
END:VEVENT
END:VCALENDAR
